BEGIN:VCALENDAR
VERSION:2.0
PRODID:-//IES Sagrado Corazón - ECPv6.0.9//NONSGML v1.0//EN
CALSCALE:GREGORIAN
METHOD:PUBLISH
X-ORIGINAL-URL:http://iessagradocorazon.es
X-WR-CALDESC:Eventos para IES Sagrado Corazón
REFRESH-INTERVAL;VALUE=DURATION:PT1H
X-Robots-Tag:noindex
X-PUBLISHED-TTL:PT1H
BEGIN:VTIMEZONE
TZID:UTC
BEGIN:STANDARD
TZOFFSETFROM:+0000
TZOFFSETTO:+0000
TZNAME:UTC
DTSTART:20220101T000000
END:STANDARD
END:VTIMEZONE
BEGIN:VEVENT
DTSTART;VALUE=DATE:20221025
DTEND;VALUE=DATE:20221026
DTSTAMP:20260421T173420
CREATED:20221017T101110Z
LAST-MODIFIED:20221017T101530Z
UID:1161-1666656000-1666742399@iessagradocorazon.es
SUMMARY:Mercadillo Solidario Halloween
DESCRIPTION:
URL:http://iessagradocorazon.es/event/mercadillo-solidario-halloween/
ATTACH;FMTTYPE=image/jpeg:http://iessagradocorazon.es/wp-content/uploads/2022/10/IMG-20221017-WA0001.jpg
END:VEVENT
BEGIN:VEVENT
DTSTART;VALUE=DATE:20221024
DTEND;VALUE=DATE:20221025
DTSTAMP:20260421T173420
CREATED:20221024T065402Z
LAST-MODIFIED:20221024T065402Z
UID:1186-1666569600-1666655999@iessagradocorazon.es
SUMMARY:Taller de Coaching 3° A
DESCRIPTION:
URL:http://iessagradocorazon.es/event/taller-de-coaching-3-a/
END:VEVENT
BEGIN:VEVENT
DTSTART;VALUE=DATE:20221021
DTEND;VALUE=DATE:20221022
DTSTAMP:20260421T173420
CREATED:20221010T093816Z
LAST-MODIFIED:20221010T093816Z
UID:1121-1666310400-1666396799@iessagradocorazon.es
SUMMARY:La vida del camaleón 2º ESO A-B
DESCRIPTION:
URL:http://iessagradocorazon.es/event/la-vida-del-camaleon-2o-eso-a-b/
END:VEVENT
BEGIN:VEVENT
DTSTART;VALUE=DATE:20221020
DTEND;VALUE=DATE:20221021
DTSTAMP:20260421T173420
CREATED:20221010T093753Z
LAST-MODIFIED:20221010T093753Z
UID:1118-1666224000-1666310399@iessagradocorazon.es
SUMMARY:La vida del camaleón  1º ESO B
DESCRIPTION:
URL:http://iessagradocorazon.es/event/la-vida-del-camaleon-1o-eso-b/
END:VEVENT
BEGIN:VEVENT
DTSTART;VALUE=DATE:20221019
DTEND;VALUE=DATE:20221020
DTSTAMP:20260421T173420
CREATED:20221010T092734Z
LAST-MODIFIED:20221010T093114Z
UID:1115-1666137600-1666223999@iessagradocorazon.es
SUMMARY:La vida del Camaleón - 1º ESO A
DESCRIPTION:
URL:http://iessagradocorazon.es/event/la-vida-del-camaleon-1o-eso-a/
END:VEVENT
BEGIN:VEVENT
DTSTART;VALUE=DATE:20221017
DTEND;VALUE=DATE:20221018
DTSTAMP:20260421T173420
CREATED:20221017T101316Z
LAST-MODIFIED:20221017T101417Z
UID:1164-1665964800-1666051199@iessagradocorazon.es
SUMMARY:Día de las escritoras
DESCRIPTION:
URL:http://iessagradocorazon.es/event/dia-de-las-escritoras/
ATTACH;FMTTYPE=image/jpeg:http://iessagradocorazon.es/wp-content/uploads/2022/10/Dia-de-las-escritoras.jpg
END:VEVENT
END:VCALENDAR