BEGIN:VCALENDAR
VERSION:2.0
PRODID:-//IES Sagrado Corazón - ECPv6.0.9//NONSGML v1.0//EN
CALSCALE:GREGORIAN
METHOD:PUBLISH
X-WR-CALNAME:IES Sagrado Corazón
X-ORIGINAL-URL:http://iessagradocorazon.es
X-WR-CALDESC:Eventos para IES Sagrado Corazón
REFRESH-INTERVAL;VALUE=DURATION:PT1H
X-Robots-Tag:noindex
X-PUBLISHED-TTL:PT1H
BEGIN:VTIMEZONE
TZID:UTC
BEGIN:STANDARD
TZOFFSETFROM:+0000
TZOFFSETTO:+0000
TZNAME:UTC
DTSTART:20240101T000000
END:STANDARD
END:VTIMEZONE
BEGIN:VEVENT
DTSTART;TZID=UTC:20240423T160000
DTEND;TZID=UTC:20240423T233000
DTSTAMP:20260425T031800
CREATED:20240402T122103Z
LAST-MODIFIED:20240402T122121Z
UID:1689-1713888000-1713915000@iessagradocorazon.es
SUMMARY:Publicación de ganadores del concurso Bookface
DESCRIPTION:
URL:http://iessagradocorazon.es/event/publicacion-de-ganadores-del-concurso-bookface/
END:VEVENT
END:VCALENDAR